 BEGIN:VCALENDAR
VERSION:2.0
PRODID:-//Waverly Hall Christian Academy - ECPv4.9.2//NONSGML v1.0//EN
CALSCALE:GREGORIAN
METHOD:PUBLISH
X-WR-CALNAME:Waverly Hall Christian Academy
X-ORIGINAL-URL:http://whchristian.org
X-WR-CALDESC:Events for Waverly Hall Christian Academy
BEGIN:VEVENT
DTSTART;VALUE=DATE:20211211
DTEND;VALUE=DATE:20211212
DTSTAMP:20260423T063656
CREATED:20211109T143520Z
LAST-MODIFIED:20211109T150007Z
UID:3259-1639180800-1639267199@whchristian.org
SUMMARY:Archery Tournament Lafayette Christian 1904 Hamilton Road Lagrange\, Georgia
DESCRIPTION:Lafayette Christian 1904 Hamilton Road Lagrange\, Georgia \n
URL:http://whchristian.org/calendar/archery-tournament-2/
END:VEVENT
END:VCALENDAR