 BEGIN:VCALENDAR
VERSION:2.0
PRODID:-//Waverly Hall Christian Academy - ECPv4.9.2//NONSGML v1.0//EN
CALSCALE:GREGORIAN
METHOD:PUBLISH
X-WR-CALNAME:Waverly Hall Christian Academy
X-ORIGINAL-URL:http://whchristian.org
X-WR-CALDESC:Events for Waverly Hall Christian Academy
BEGIN:VEVENT
DTSTART;VALUE=DATE:20220513
DTEND;VALUE=DATE:20220514
DTSTAMP:20260422T221954
CREATED:20200630T020913Z
LAST-MODIFIED:20210514T234706Z
UID:3108-1652400000-1652486399@whchristian.org
SUMMARY:Awards Programs 10:00 a.m.
DESCRIPTION:
URL:http://whchristian.org/calendar/awards-program-1030-a-m-k5-8th-grade-last-day/
END:VEVENT
END:VCALENDAR