 BEGIN:VCALENDAR
VERSION:2.0
PRODID:-//Waverly Hall Christian Academy - ECPv4.9.2//NONSGML v1.0//EN
CALSCALE:GREGORIAN
METHOD:PUBLISH
X-WR-CALNAME:Waverly Hall Christian Academy
X-ORIGINAL-URL:http://whchristian.org
X-WR-CALDESC:Events for Waverly Hall Christian Academy
BEGIN:VEVENT
DTSTART;VALUE=DATE:20220810
DTEND;VALUE=DATE:20220811
DTSTAMP:20260422T164645
CREATED:20220720T172808Z
LAST-MODIFIED:20220720T172808Z
UID:3320-1660089600-1660175999@whchristian.org
SUMMARY:Chapel
DESCRIPTION:
URL:http://whchristian.org/calendar/chapel-13/
END:VEVENT
END:VCALENDAR