 BEGIN:VCALENDAR
VERSION:2.0
PRODID:-//Waverly Hall Christian Academy - ECPv4.9.2//NONSGML v1.0//EN
CALSCALE:GREGORIAN
METHOD:PUBLISH
X-WR-CALNAME:Waverly Hall Christian Academy
X-ORIGINAL-URL:http://whchristian.org
X-WR-CALDESC:Events for Waverly Hall Christian Academy
BEGIN:VEVENT
DTSTART;VALUE=DATE:20220504
DTEND;VALUE=DATE:20220505
DTSTAMP:20260422T221415
CREATED:20210514T234455Z
LAST-MODIFIED:20210514T234455Z
UID:3209-1651622400-1651708799@whchristian.org
SUMMARY:Chapel
DESCRIPTION:
URL:http://whchristian.org/calendar/chapel-17/
END:VEVENT
END:VCALENDAR