 BEGIN:VCALENDAR
VERSION:2.0
PRODID:-//Waverly Hall Christian Academy - ECPv4.9.2//NONSGML v1.0//EN
CALSCALE:GREGORIAN
METHOD:PUBLISH
X-WR-CALNAME:Waverly Hall Christian Academy
X-ORIGINAL-URL:http://whchristian.org
X-WR-CALDESC:Events for Waverly Hall Christian Academy
BEGIN:VEVENT
DTSTART;VALUE=DATE:20220921
DTEND;VALUE=DATE:20220922
DTSTAMP:20260422T150009
CREATED:20220720T173055Z
LAST-MODIFIED:20220720T173055Z
UID:3328-1663718400-1663804799@whchristian.org
SUMMARY:Chapel
DESCRIPTION:
URL:http://whchristian.org/calendar/chapel-20/
END:VEVENT
END:VCALENDAR