 BEGIN:VCALENDAR
VERSION:2.0
PRODID:-//Waverly Hall Christian Academy - ECPv4.9.2//NONSGML v1.0//EN
CALSCALE:GREGORIAN
METHOD:PUBLISH
X-WR-CALNAME:Waverly Hall Christian Academy
X-ORIGINAL-URL:http://whchristian.org
X-WR-CALDESC:Events for Waverly Hall Christian Academy
BEGIN:VEVENT
DTSTART;VALUE=DATE:20211215
DTEND;VALUE=DATE:20211216
DTSTAMP:20260423T063715
CREATED:20200630T013854Z
LAST-MODIFIED:20210514T230542Z
UID:3066-1639526400-1639612799@whchristian.org
SUMMARY:Chapel
DESCRIPTION:
URL:http://whchristian.org/calendar/chapel-8/
END:VEVENT
END:VCALENDAR