 BEGIN:VCALENDAR
VERSION:2.0
PRODID:-//Waverly Hall Christian Academy - ECPv4.9.2//NONSGML v1.0//EN
CALSCALE:GREGORIAN
METHOD:PUBLISH
X-WR-CALNAME:Waverly Hall Christian Academy
X-ORIGINAL-URL:http://whchristian.org
X-WR-CALDESC:Events for Waverly Hall Christian Academy
BEGIN:VEVENT
DTSTART;VALUE=DATE:20220928
DTEND;VALUE=DATE:20221001
DTSTAMP:20260422T131648
CREATED:20220720T173143Z
LAST-MODIFIED:20220720T173143Z
UID:3330-1664323200-1664582399@whchristian.org
SUMMARY:Fall Break (Teacher Conference) No School
DESCRIPTION:
URL:http://whchristian.org/calendar/fall-break-teacher-conference-no-school/
END:VEVENT
END:VCALENDAR