 BEGIN:VCALENDAR
VERSION:2.0
PRODID:-//Waverly Hall Christian Academy - ECPv4.9.2//NONSGML v1.0//EN
CALSCALE:GREGORIAN
METHOD:PUBLISH
X-WR-CALNAME:Waverly Hall Christian Academy
X-ORIGINAL-URL:http://whchristian.org
X-WR-CALDESC:Events for Waverly Hall Christian Academy
BEGIN:VEVENT
DTSTART;VALUE=DATE:20220506
DTEND;VALUE=DATE:20220507
DTSTAMP:20260422T220751
CREATED:20200630T020632Z
LAST-MODIFIED:20210515T001541Z
UID:3106-1651795200-1651881599@whchristian.org
SUMMARY:Field Day
DESCRIPTION:
URL:http://whchristian.org/calendar/field-day/
END:VEVENT
END:VCALENDAR