 BEGIN:VCALENDAR
VERSION:2.0
PRODID:-//Waverly Hall Christian Academy - ECPv4.9.2//NONSGML v1.0//EN
CALSCALE:GREGORIAN
METHOD:PUBLISH
X-WR-CALNAME:Waverly Hall Christian Academy
X-ORIGINAL-URL:http://whchristian.org
X-WR-CALDESC:Events for Waverly Hall Christian Academy
BEGIN:VEVENT
DTSTART;TZID=UTC-4:20220513T190000
DTEND;TZID=UTC-4:20220513T200000
DTSTAMP:20260422T201801
CREATED:20200630T021143Z
LAST-MODIFIED:20210515T001853Z
UID:3112-1652468400-1652472000@whchristian.org
SUMMARY:Graduation 7:00 p.m.
DESCRIPTION:
URL:http://whchristian.org/calendar/graduation/
END:VEVENT
END:VCALENDAR