 BEGIN:VCALENDAR
VERSION:2.0
PRODID:-//Waverly Hall Christian Academy - ECPv4.9.2//NONSGML v1.0//EN
CALSCALE:GREGORIAN
METHOD:PUBLISH
X-WR-CALNAME:Waverly Hall Christian Academy
X-ORIGINAL-URL:http://whchristian.org
X-WR-CALDESC:Events for Waverly Hall Christian Academy
BEGIN:VEVENT
DTSTART;VALUE=DATE:20220905
DTEND;VALUE=DATE:20220906
DTSTAMP:20260422T145818
CREATED:20220720T173005Z
LAST-MODIFIED:20220720T173005Z
UID:3324-1662336000-1662422399@whchristian.org
SUMMARY:Labor Day (No School)
DESCRIPTION:
URL:http://whchristian.org/calendar/labor-day-no-school-2/
END:VEVENT
END:VCALENDAR