 BEGIN:VCALENDAR
VERSION:2.0
PRODID:-//Waverly Hall Christian Academy - ECPv4.9.2//NONSGML v1.0//EN
CALSCALE:GREGORIAN
METHOD:PUBLISH
X-WR-CALNAME:Waverly Hall Christian Academy
X-ORIGINAL-URL:http://whchristian.org
X-WR-CALDESC:Events for Waverly Hall Christian Academy
BEGIN:VEVENT
DTSTART;VALUE=DATE:20220513
DTEND;VALUE=DATE:20220514
DTSTAMP:20260422T220032
CREATED:20210514T234800Z
LAST-MODIFIED:20210514T234800Z
UID:3213-1652400000-1652486399@whchristian.org
SUMMARY:Last Day of School K5-12th (Dismissal after awards program)
DESCRIPTION:
URL:http://whchristian.org/calendar/last-day-of-school-k5-12th-dismissal-after-awards-program/
END:VEVENT
END:VCALENDAR