 BEGIN:VCALENDAR
VERSION:2.0
PRODID:-//Waverly Hall Christian Academy - ECPv4.9.2//NONSGML v1.0//EN
CALSCALE:GREGORIAN
METHOD:PUBLISH
X-WR-CALNAME:Waverly Hall Christian Academy
X-ORIGINAL-URL:http://whchristian.org
X-WR-CALDESC:Events for Waverly Hall Christian Academy
BEGIN:VEVENT
DTSTART;TZID=UTC-4:20220902T113000
DTEND;TZID=UTC-4:20220902T120000
DTSTAMP:20260422T150752
CREATED:20220815T162426Z
LAST-MODIFIED:20220815T162426Z
UID:3417-1662118200-1662120000@whchristian.org
SUMMARY:Lunch
DESCRIPTION:
URL:http://whchristian.org/calendar/lunch/
END:VEVENT
END:VCALENDAR