 BEGIN:VCALENDAR
VERSION:2.0
PRODID:-//Waverly Hall Christian Academy - ECPv4.9.2//NONSGML v1.0//EN
CALSCALE:GREGORIAN
METHOD:PUBLISH
X-WR-CALNAME:Waverly Hall Christian Academy
X-ORIGINAL-URL:http://whchristian.org
X-WR-CALDESC:Events for Waverly Hall Christian Academy
BEGIN:VEVENT
DTSTART;VALUE=DATE:20220117
DTEND;VALUE=DATE:20220118
DTSTAMP:20260423T043007
CREATED:20200630T014900Z
LAST-MODIFIED:20210514T231747Z
UID:3080-1642377600-1642463999@whchristian.org
SUMMARY:Martin Luther King Day (No School)
DESCRIPTION:
URL:http://whchristian.org/calendar/martin-luther-king-day-no-school/
END:VEVENT
END:VCALENDAR