 BEGIN:VCALENDAR
VERSION:2.0
PRODID:-//Waverly Hall Christian Academy - ECPv4.9.2//NONSGML v1.0//EN
CALSCALE:GREGORIAN
METHOD:PUBLISH
X-WR-CALNAME:Waverly Hall Christian Academy
X-ORIGINAL-URL:http://whchristian.org
X-WR-CALDESC:Events for Waverly Hall Christian Academy
BEGIN:VEVENT
DTSTART;VALUE=DATE:20220221
DTEND;VALUE=DATE:20220222
DTSTAMP:20260423T025509
CREATED:20200630T015455Z
LAST-MODIFIED:20210514T232328Z
UID:3088-1645401600-1645487999@whchristian.org
SUMMARY:Presidents Day (No School)
DESCRIPTION:
URL:http://whchristian.org/calendar/presidents-day-no-school/
END:VEVENT
END:VCALENDAR