 BEGIN:VCALENDAR
VERSION:2.0
PRODID:-//Waverly Hall Christian Academy - ECPv4.9.2//NONSGML v1.0//EN
CALSCALE:GREGORIAN
METHOD:PUBLISH
X-WR-CALNAME:Waverly Hall Christian Academy
X-ORIGINAL-URL:http://whchristian.org
X-WR-CALDESC:Events for Waverly Hall Christian Academy
BEGIN:VEVENT
DTSTART;VALUE=DATE:20220309
DTEND;VALUE=DATE:20220310
DTSTAMP:20260423T012820
CREATED:20210306T025710Z
LAST-MODIFIED:20210514T232621Z
UID:3140-1646784000-1646870399@whchristian.org
SUMMARY:Report Cards
DESCRIPTION:
URL:http://whchristian.org/calendar/report-cards-3/
END:VEVENT
END:VCALENDAR