 BEGIN:VCALENDAR
VERSION:2.0
PRODID:-//Waverly Hall Christian Academy - ECPv4.9.2//NONSGML v1.0//EN
CALSCALE:GREGORIAN
METHOD:PUBLISH
X-WR-CALNAME:Waverly Hall Christian Academy
X-ORIGINAL-URL:http://whchristian.org
X-WR-CALDESC:Events for Waverly Hall Christian Academy
BEGIN:VEVENT
DTSTART;TZID=UTC-4:20220923T180000
DTEND;TZID=UTC-4:20220923T200000
DTSTAMP:20260422T145231
CREATED:20220815T162643Z
LAST-MODIFIED:20220815T162643Z
UID:3421-1663956000-1663963200@whchristian.org
SUMMARY:Social - Painting on Canvases 6:00p.m. - 8:00p.m.
DESCRIPTION:
URL:http://whchristian.org/calendar/social-painting-on-canvases-600p-m-800p-m/
END:VEVENT
END:VCALENDAR