 BEGIN:VCALENDAR
VERSION:2.0
PRODID:-//Waverly Hall Christian Academy - ECPv4.9.2//NONSGML v1.0//EN
CALSCALE:GREGORIAN
METHOD:PUBLISH
X-WR-CALNAME:Waverly Hall Christian Academy
X-ORIGINAL-URL:http://whchristian.org
X-WR-CALDESC:Events for Waverly Hall Christian Academy
BEGIN:VEVENT
DTSTART;VALUE=DATE:20220429
DTEND;VALUE=DATE:20220430
DTSTAMP:20260422T235008
CREATED:20200630T020539Z
LAST-MODIFIED:20210514T234346Z
UID:3104-1651190400-1651276799@whchristian.org
SUMMARY:Spring Fling
DESCRIPTION:
URL:http://whchristian.org/calendar/spring-fling/
END:VEVENT
END:VCALENDAR