 BEGIN:VCALENDAR
VERSION:2.0
PRODID:-//Waverly Hall Christian Academy - ECPv4.9.2//NONSGML v1.0//EN
CALSCALE:GREGORIAN
METHOD:PUBLISH
X-WR-CALNAME:Waverly Hall Christian Academy
X-ORIGINAL-URL:http://whchristian.org
X-WR-CALDESC:Events for Waverly Hall Christian Academy
BEGIN:VEVENT
DTSTART;VALUE=DATE:20220413
DTEND;VALUE=DATE:20220415
DTSTAMP:20260423T012631
CREATED:20210223T020533Z
LAST-MODIFIED:20210514T233623Z
UID:3132-1649808000-1649980799@whchristian.org
SUMMARY:Standardized Testing
DESCRIPTION:
URL:http://whchristian.org/calendar/standardized-testing/
END:VEVENT
END:VCALENDAR