 BEGIN:VCALENDAR
VERSION:2.0
PRODID:-//Waverly Hall Christian Academy - ECPv4.9.2//NONSGML v1.0//EN
CALSCALE:GREGORIAN
METHOD:PUBLISH
X-WR-CALNAME:Waverly Hall Christian Academy
X-ORIGINAL-URL:http://whchristian.org
X-WR-CALDESC:Events for Waverly Hall Christian Academy
BEGIN:VEVENT
DTSTART;VALUE=DATE:20220808
DTEND;VALUE=DATE:20220809
DTSTAMP:20260422T164504
CREATED:20220720T172737Z
LAST-MODIFIED:20220720T172737Z
UID:3318-1659916800-1660003199@whchristian.org
SUMMARY:Students Return
DESCRIPTION:
URL:http://whchristian.org/calendar/students-return/
END:VEVENT
END:VCALENDAR